BEGIN:VCALENDAR
VERSION:2.0
PRODID:-//socialdancer.org//Dances//EN
CALSCALE:GREGORIAN
METHOD:PUBLISH
X-WR-TIMEZONE:Europe/Stockholm
BEGIN:VEVENT
SUMMARY:Kizomba Örebro Grundkurs i Urban Kiz
DTSTART:20260319T173000Z
DTEND:20260319T183000Z
DTSTAMP:20260425T195037Z
UID:https://socialdancer.org/en/event/2457/
CATEGORIES:
DESCRIPTION:Grundkurs i Urban Kiz \n https://www.facebook.com/events/87570
 6978399670/
URL:https://socialdancer.org/en/event/2457/
END:VEVENT
END:VCALENDAR
