BEGIN:VCALENDAR
VERSION:2.0
PRODID:-//socialdancer.org//Dances//EN
CALSCALE:GREGORIAN
METHOD:PUBLISH
X-WR-TIMEZONE:Europe/Stockholm
BEGIN:VEVENT
SUMMARY:Fox Oskarshamn NoventFox med FoxFusion
DTSTART:20261121T090000Z
DTEND:20261122T225900Z
DTSTAMP:20260426T030141Z
UID:https://socialdancer.org/en/event/2445/
CATEGORIES:
DESCRIPTION:NoventFox med FoxFusion \n https://www.facebook.com/events/819
 496750854148/
URL:https://socialdancer.org/en/event/2445/
END:VEVENT
END:VCALENDAR
