BEGIN:VCALENDAR
VERSION:2.0
PRODID:-//socialdancer.org//Dances//EN
CALSCALE:GREGORIAN
METHOD:PUBLISH
X-WR-TIMEZONE:Europe/Stockholm
BEGIN:VEVENT
SUMMARY:Bugg/Fox Herrljunga Dansa i parken - PH´s
DTSTART:20261018T150000Z
DTEND:20261018T190000Z
DTSTAMP:20260426T030120Z
UID:https://socialdancer.org/en/event/2389/
CATEGORIES:
DESCRIPTION:Dansa i parken - PH´s \n https://www.facebook.com/events/1398
 139638557981/
URL:https://socialdancer.org/en/event/2389/
END:VEVENT
END:VCALENDAR
