BEGIN:VCALENDAR
VERSION:2.0
PRODID:-//socialdancer.org//Dances//EN
CALSCALE:GREGORIAN
METHOD:PUBLISH
X-WR-TIMEZONE:Europe/Stockholm
BEGIN:VEVENT
SUMMARY:Bugg/Fox Herrljunga Dansa i parken - Donnez
DTSTART:20260813T160000Z
DTEND:20260813T193000Z
DTSTAMP:20260426T061934Z
UID:https://socialdancer.org/en/event/2385/
CATEGORIES:
DESCRIPTION:Dansa i parken - Donnez \n https://www.facebook.com/events/143
 8885068183405/
URL:https://socialdancer.org/en/event/2385/
END:VEVENT
END:VCALENDAR
