BEGIN:VCALENDAR
VERSION:2.0
PRODID:-//socialdancer.org//Dances//EN
CALSCALE:GREGORIAN
METHOD:PUBLISH
X-WR-TIMEZONE:Europe/Stockholm
BEGIN:VEVENT
SUMMARY:Fox Karlskoga FOXNIGHT - DISCO PARTY / Höla fyller 4 år!
DTSTART:20260911T170000Z
DTSTAMP:20260426T062559Z
UID:https://socialdancer.org/en/event/2366/
CATEGORIES:
DESCRIPTION:FOXNIGHT - DISCO PARTY / Höla fyller 4 år! \n https://www.fa
 cebook.com/events/1882312549043363/
URL:https://socialdancer.org/en/event/2366/
END:VEVENT
END:VCALENDAR
