BEGIN:VCALENDAR
VERSION:2.0
PRODID:-//socialdancer.org//Dances//EN
CALSCALE:GREGORIAN
METHOD:PUBLISH
X-WR-TIMEZONE:Europe/Stockholm
BEGIN:VEVENT
SUMMARY:Fox Karlskoga Foxnight Röda Mattan Med Foxkurs
DTSTART:20260529T170000Z
DTEND:20260529T210000Z
DTSTAMP:20260421T120006Z
UID:https://socialdancer.org/en/event/2314/
CATEGORIES:
DESCRIPTION:Foxnight Röda Mattan Med Foxkurs \n https://www.facebook.com/
 events/2093508571422196/
URL:https://socialdancer.org/en/event/2314/
END:VEVENT
END:VCALENDAR
