BEGIN:VCALENDAR
VERSION:2.0
PRODID:-//socialdancer.org//Dances//EN
CALSCALE:GREGORIAN
METHOD:PUBLISH
X-WR-TIMEZONE:Europe/Stockholm
BEGIN:VEVENT
SUMMARY:Bugg/Fox Göteborg Extra danskväll i Exercishuset!
DTSTART:20221218T160000Z
DTEND:20221218T190000Z
DTSTAMP:20260425T232430Z
UID:https://socialdancer.org/en/event/22/
CATEGORIES:
DESCRIPTION:Extra danskväll i Exercishuset! \n https://www.facebook.com/e
 vents/2262443197260387/
URL:https://socialdancer.org/en/event/22/
END:VEVENT
END:VCALENDAR
