BEGIN:VCALENDAR
VERSION:2.0
PRODID:-//socialdancer.org//Dances//EN
CALSCALE:GREGORIAN
METHOD:PUBLISH
X-WR-TIMEZONE:Europe/Stockholm
BEGIN:VEVENT
SUMMARY:Fox Stockholm Brunna Foxkväll
DTSTART:20260221T170000Z
DTEND:20260221T210000Z
DTSTAMP:20260423T111721Z
UID:https://socialdancer.org/en/event/2137/
CATEGORIES:
DESCRIPTION:Brunna Foxkväll \n https://www.facebook.com/events/2406681820
 155639/
URL:https://socialdancer.org/en/event/2137/
END:VEVENT
END:VCALENDAR
