BEGIN:VCALENDAR
VERSION:2.0
PRODID:-//socialdancer.org//Dances//EN
CALSCALE:GREGORIAN
METHOD:PUBLISH
X-WR-TIMEZONE:Europe/Stockholm
BEGIN:VEVENT
SUMMARY:Fox Alingsås Foxing the Summer Night Away 2026 - en foxkväll i A
 lingsås
DTSTART:20260828T170000Z
DTEND:20260828T215900Z
DTSTAMP:20260423T102323Z
UID:https://socialdancer.org/en/event/2135/
CATEGORIES:
DESCRIPTION:Foxing the Summer Night Away 2026 - en foxkväll i Alingsås \
 n https://www.facebook.com/events/761862543644031/
URL:https://socialdancer.org/en/event/2135/
END:VEVENT
END:VCALENDAR
