BEGIN:VCALENDAR
VERSION:2.0
PRODID:-//socialdancer.org//Dances//EN
CALSCALE:GREGORIAN
METHOD:PUBLISH
X-WR-TIMEZONE:Europe/Stockholm
BEGIN:VEVENT
SUMMARY:Kizomba/Fox Göteborg FOXKIZ Helgkurs - Ronie Saleh - Dance of Dre
 ams\, Orust
DTSTART:20260314T180000Z
DTEND:20260315T225900Z
DTSTAMP:20260422T144609Z
UID:https://socialdancer.org/en/event/2129/
CATEGORIES:
DESCRIPTION:FOXKIZ Helgkurs - Ronie Saleh - Dance of Dreams\, Orust \n htt
 ps://www.facebook.com/events/1340468801026483/
URL:https://socialdancer.org/en/event/2129/
END:VEVENT
END:VCALENDAR
