BEGIN:VCALENDAR
VERSION:2.0
PRODID:-//socialdancer.org//Dances//EN
CALSCALE:GREGORIAN
METHOD:PUBLISH
X-WR-TIMEZONE:Europe/Stockholm
BEGIN:VEVENT
SUMMARY:Bugg Borås Avancerad musikutbildning i bugg med Kenneth Nordströ
 m
DTSTART:20260315T180000Z
DTSTAMP:20260423T112005Z
UID:https://socialdancer.org/en/event/2109/
CATEGORIES:
DESCRIPTION:Borås Dansförening - Danskurser för alla åldrar - \n https
 ://borasdansforening.se/
URL:https://socialdancer.org/en/event/2109/
END:VEVENT
END:VCALENDAR
