BEGIN:VCALENDAR
VERSION:2.0
PRODID:-//socialdancer.org//Dances//EN
CALSCALE:GREGORIAN
METHOD:PUBLISH
X-WR-TIMEZONE:Europe/Stockholm
BEGIN:VEVENT
SUMMARY:West Coast Swing Sundsvall Nybörjarkurs – intensivhelg
DTSTART:20260314T093000Z
DTEND:20260315T143000Z
DTSTAMP:20260422T144754Z
UID:https://socialdancer.org/en/event/2102/
CATEGORIES:
DESCRIPTION:Westie Vision | West coast swing i Sundsvall \n https://westie
 vision.se/
URL:https://socialdancer.org/en/event/2102/
END:VEVENT
END:VCALENDAR
