BEGIN:VCALENDAR
VERSION:2.0
PRODID:-//socialdancer.org//Dances//EN
CALSCALE:GREGORIAN
METHOD:PUBLISH
X-WR-TIMEZONE:Europe/Stockholm
BEGIN:VEVENT
SUMMARY:Line dance Sundsvall Shake That – linedance
DTSTART:20260226T170000Z
DTEND:20260226T180000Z
DTSTAMP:20260421T115807Z
UID:https://socialdancer.org/en/event/2097/
CATEGORIES:
DESCRIPTION:Westie Vision | West coast swing i Sundsvall \n https://westie
 vision.se/
URL:https://socialdancer.org/en/event/2097/
END:VEVENT
END:VCALENDAR
