BEGIN:VCALENDAR
VERSION:2.0
PRODID:-//socialdancer.org//Dances//EN
CALSCALE:GREGORIAN
METHOD:PUBLISH
X-WR-TIMEZONE:Europe/Stockholm
BEGIN:VEVENT
SUMMARY:Bugg Göteborg KLUBBTÄVLING BUGG (Ungdomsgruppen)
DTSTART:20260228T090000Z
DTSTAMP:20260420T143723Z
UID:https://socialdancer.org/en/event/2095/
CATEGORIES:
DESCRIPTION:Aktuella kurser och event – Donnum Ferrum \n https://www.dfe
 .se/aktuella-kurser-och-event/
URL:https://socialdancer.org/en/event/2095/
END:VEVENT
END:VCALENDAR
