BEGIN:VCALENDAR
VERSION:2.0
PRODID:-//socialdancer.org//Dances//EN
CALSCALE:GREGORIAN
METHOD:PUBLISH
X-WR-TIMEZONE:Europe/Stockholm
BEGIN:VEVENT
SUMMARY:Fox Vårgårda Socialdans med modern musik för Fox
DTSTART:20260221T180000Z
DTSTAMP:20260420T103203Z
UID:https://socialdancer.org/en/event/2093/
CATEGORIES:
DESCRIPTION:Happy Dance | dansresa \n https://www.happydance.se/\nHappy Da
 nce | dansresa \n https://www.foxveckorna.se/
URL:https://socialdancer.org/en/event/2093/
END:VEVENT
END:VCALENDAR
