BEGIN:VCALENDAR
VERSION:2.0
PRODID:-//socialdancer.org//Dances//EN
CALSCALE:GREGORIAN
METHOD:PUBLISH
X-WR-TIMEZONE:Europe/Stockholm
BEGIN:VEVENT
SUMMARY:Fox Göteborg Let’s Fox - foxkväll i Göteborg
DTSTART:20260221T180000Z
DTEND:20260221T220000Z
DTSTAMP:20260421T122136Z
UID:https://socialdancer.org/en/event/2051/
CATEGORIES:
DESCRIPTION:Let’s Fox - foxkväll i Göteborg \n https://www.facebook.co
 m/events/1335700151644644/
URL:https://socialdancer.org/en/event/2051/
END:VEVENT
END:VCALENDAR
