BEGIN:VCALENDAR
VERSION:2.0
PRODID:-//socialdancer.org//Dances//EN
CALSCALE:GREGORIAN
METHOD:PUBLISH
X-WR-TIMEZONE:Europe/Stockholm
BEGIN:VEVENT
SUMMARY:Bugg/Fox Västerås Dansmara till Sannex\, Callinaz\, Blenders och
  Expanders i Skultuna
DTSTART:20230602T170000Z
DTEND:20230603T215900Z
DTSTAMP:20260420T054859Z
UID:https://socialdancer.org/en/event/205/
CATEGORIES:
DESCRIPTION:Dansmara till Sannex\, Callinaz\, Blenders och Expanders \n ht
 tps://www.facebook.com/events/501639358769387/
URL:https://socialdancer.org/en/event/205/
END:VEVENT
END:VCALENDAR
