BEGIN:VCALENDAR
VERSION:2.0
PRODID:-//socialdancer.org//Dances//EN
CALSCALE:GREGORIAN
METHOD:PUBLISH
X-WR-TIMEZONE:Europe/Stockholm
BEGIN:VEVENT
SUMMARY:Fox Alingsås Foxing the Night Away XII - en foxkväll i Alingsås
DTSTART:20260306T180000Z
DTEND:20260306T230000Z
DTSTAMP:20260421T115819Z
UID:https://socialdancer.org/en/event/2035/
CATEGORIES:
DESCRIPTION:Foxing the Night Away XII - en foxkväll i Alingsås \n https:
 //www.facebook.com/events/4278240292457841/
URL:https://socialdancer.org/en/event/2035/
END:VEVENT
END:VCALENDAR
