BEGIN:VCALENDAR
VERSION:2.0
PRODID:-//socialdancer.org//Dances//EN
CALSCALE:GREGORIAN
METHOD:PUBLISH
X-WR-TIMEZONE:Europe/Stockholm
BEGIN:VEVENT
SUMMARY:Bugg/Foxtrot/One-Step/Fox Gävle Gävlemaran - Date och PHs
DTSTART:20260322T160000Z
DTSTAMP:20260421T115448Z
UID:https://socialdancer.org/en/event/2006/
CATEGORIES:
DESCRIPTION:Program & Tider - Gävlemaran \n https://gavlemaran.se/program
 /
URL:https://socialdancer.org/en/event/2006/
END:VEVENT
END:VCALENDAR
