BEGIN:VCALENDAR
VERSION:2.0
PRODID:-//socialdancer.org//Dances//EN
CALSCALE:GREGORIAN
METHOD:PUBLISH
X-WR-TIMEZONE:Europe/Stockholm
BEGIN:VEVENT
SUMMARY:Bugg Nerja Dansveckan - Vinter 2026 (Vecka 9)
DTSTART:20260223T070000Z
DTEND:20260301T225900Z
DTSTAMP:20260421T132227Z
UID:https://socialdancer.org/en/event/1978/
CATEGORIES:
DESCRIPTION:Dansveckan 2025 | BokaNerja - resebyrå \n https://www.bokaner
 ja.se/dansveckan-2025/
URL:https://socialdancer.org/en/event/1978/
END:VEVENT
END:VCALENDAR
