BEGIN:VCALENDAR
VERSION:2.0
PRODID:-//socialdancer.org//Dances//EN
CALSCALE:GREGORIAN
METHOD:PUBLISH
X-WR-TIMEZONE:Europe/Stockholm
BEGIN:VEVENT
SUMMARY:Bugg/Fox Helsingborg Torsdagsdans säsongsavslutning - Callinaz
DTSTART:20230518T170000Z
DTEND:20230518T210000Z
DTSTAMP:20260421T132740Z
UID:https://socialdancer.org/en/event/195/
CATEGORIES:
DESCRIPTION:Torsdagsdans säsongsavslutning - Callinaz \n https://www.face
 book.com/events/631266775004825/
URL:https://socialdancer.org/en/event/195/
END:VEVENT
END:VCALENDAR
