BEGIN:VCALENDAR
VERSION:2.0
PRODID:-//socialdancer.org//Dances//EN
CALSCALE:GREGORIAN
METHOD:PUBLISH
X-WR-TIMEZONE:Europe/Stockholm
BEGIN:VEVENT
SUMMARY:Argentine Tango Mölndal Milonga workshop med Daniel Carlsson
DTSTART:20251213T180000Z
DTEND:20251214T120000Z
DTSTAMP:20260420T081759Z
UID:https://socialdancer.org/en/event/1845/
CATEGORIES:
DESCRIPTION:Kurser - Mölndals Dansskola \n https://www.molndalsdansskola.
 se/kurser/
URL:https://socialdancer.org/en/event/1845/
END:VEVENT
END:VCALENDAR
