BEGIN:VCALENDAR
VERSION:2.0
PRODID:-//socialdancer.org//Dances//EN
CALSCALE:GREGORIAN
METHOD:PUBLISH
X-WR-TIMEZONE:Europe/Stockholm
BEGIN:VEVENT
SUMMARY:Bugg Vallsta Inspirationsbugg Vallsta bygdegård
DTSTART:20260305T180000Z
DTEND:20260305T193000Z
DTSTAMP:20260419T192536Z
UID:https://socialdancer.org/en/event/1662/
CATEGORIES:
DESCRIPTION:Inspirationsbugg Vallsta bygdegård  \n https://www.facebook.c
 om/events/1508386073716982/
URL:https://socialdancer.org/en/event/1662/
END:VEVENT
END:VCALENDAR
