BEGIN:VCALENDAR
VERSION:2.0
PRODID:-//socialdancer.org//Dances//EN
CALSCALE:GREGORIAN
METHOD:PUBLISH
X-WR-TIMEZONE:Europe/Stockholm
BEGIN:VEVENT
SUMMARY:Fox Mölndal Fox-grundkrurs med Ebba
DTSTART:20260122T183000Z
DTEND:20260122T200000Z
DTSTAMP:20260421T104500Z
UID:https://socialdancer.org/en/event/1661/
CATEGORIES:
DESCRIPTION:Fox-grundkrurs med Ebba \n https://www.facebook.com/events/173
 8690877104957/
URL:https://socialdancer.org/en/event/1661/
END:VEVENT
END:VCALENDAR
