BEGIN:VCALENDAR
VERSION:2.0
PRODID:-//socialdancer.org//Dances//EN
CALSCALE:GREGORIAN
METHOD:PUBLISH
X-WR-TIMEZONE:Europe/Stockholm
BEGIN:VEVENT
SUMMARY:Kizomba/Fox Bromölla FoxKiz - Ronie Saleh (Bromölla)
DTSTART:20260509T080000Z
DTEND:20260510T130000Z
DTSTAMP:20260420T044428Z
UID:https://socialdancer.org/en/event/1653/
CATEGORIES:
DESCRIPTION:FoxKiz - Ronie Saleh (Bromölla) \n https://www.facebook.com/e
 vents/4043987969200599/
URL:https://socialdancer.org/en/event/1653/
END:VEVENT
END:VCALENDAR
