BEGIN:VCALENDAR
VERSION:2.0
PRODID:-//socialdancer.org//Dances//EN
CALSCALE:GREGORIAN
METHOD:PUBLISH
X-WR-TIMEZONE:Europe/Stockholm
BEGIN:VEVENT
SUMMARY:Fox Stala Foxkurs med Göran & Anki - Dance of Dreams
DTSTART:20260509T080000Z
DTEND:20260509T133000Z
DTSTAMP:20260421T121302Z
UID:https://socialdancer.org/en/event/1579/
CATEGORIES:
DESCRIPTION:Foxkurs med Göran & Anki - Dance of Dreams \n https://www.fac
 ebook.com/events/2496034604122861/
URL:https://socialdancer.org/en/event/1579/
END:VEVENT
END:VCALENDAR
