BEGIN:VCALENDAR
VERSION:2.0
PRODID:-//socialdancer.org//Dances//EN
CALSCALE:GREGORIAN
METHOD:PUBLISH
X-WR-TIMEZONE:Europe/Stockholm
BEGIN:VEVENT
SUMMARY:Bugg/Fox Jönköping Allstars på Sägnernas
DTSTART:20230526T180000Z
DTEND:20230526T220000Z
DTSTAMP:20260420T103145Z
UID:https://socialdancer.org/en/event/151/
CATEGORIES:
DESCRIPTION:Allstars på Sägnernas \n https://www.facebook.com/events/117
 6330036366240
URL:https://socialdancer.org/en/event/151/
END:VEVENT
END:VCALENDAR
