BEGIN:VCALENDAR
VERSION:2.0
PRODID:-//socialdancer.org//Dances//EN
CALSCALE:GREGORIAN
METHOD:PUBLISH
X-WR-TIMEZONE:Europe/Stockholm
BEGIN:VEVENT
SUMMARY:West Coast Swing Göteborg Föreningsdag med årsmöte 2026
DTSTART:20260307T120000Z
DTEND:20260307T220000Z
DTSTAMP:20260423T115812Z
UID:https://socialdancer.org/en/event/1421/
CATEGORIES:
DESCRIPTION:Föreningsdag med årsmöte 2026 \n https://www.facebook.com/e
 vents/2047102579431008/
URL:https://socialdancer.org/en/event/1421/
END:VEVENT
END:VCALENDAR
