BEGIN:VCALENDAR
VERSION:2.0
PRODID:-//socialdancer.org//Dances//EN
CALSCALE:GREGORIAN
METHOD:PUBLISH
X-WR-TIMEZONE:Europe/Stockholm
BEGIN:VEVENT
SUMMARY:Fox Karlskoga Dans Evening och Kursledarutbildning
DTSTART:20260220T180000Z
DTSTAMP:20260421T133441Z
UID:https://socialdancer.org/en/event/1261/
CATEGORIES:
DESCRIPTION:Dans Evening och Kursledarutbildning \n https://www.facebook.c
 om/events/1532832961418875/
URL:https://socialdancer.org/en/event/1261/
END:VEVENT
END:VCALENDAR
