BEGIN:VCALENDAR
VERSION:2.0
PRODID:-//socialdancer.org//Dances//EN
CALSCALE:GREGORIAN
METHOD:PUBLISH
X-WR-TIMEZONE:Europe/Stockholm
BEGIN:VEVENT
SUMMARY:Bugg Örebro Callinaz i Brunnsparken 22/11
DTSTART:20251122T180000Z
DTEND:20251122T220000Z
DTSTAMP:20260421T104333Z
UID:https://socialdancer.org/en/event/1235/
CATEGORIES:
DESCRIPTION:Callinaz i Brunnsparken 22/11 \n https://www.facebook.com/even
 ts/1634975367890688/
URL:https://socialdancer.org/en/event/1235/
END:VEVENT
END:VCALENDAR
