BEGIN:VCALENDAR
VERSION:2.0
PRODID:-//socialdancer.org//Dances//EN
CALSCALE:GREGORIAN
METHOD:PUBLISH
X-WR-TIMEZONE:Europe/Stockholm
BEGIN:VEVENT
SUMMARY:Salsa Stockholm Salsa på Märthas Rooftop & Bar (Söder Mälarstr
 and)
DTSTART:20250817T150000Z
DTSTAMP:20260423T114525Z
UID:https://socialdancer.org/en/event/1144/
CATEGORIES:
DESCRIPTION:Salsa på Märthas Rooftop & Bar (Söder Mälarstrand) \n http
 s://www.facebook.com/events/724435300434072/
URL:https://socialdancer.org/en/event/1144/
END:VEVENT
END:VCALENDAR
