BEGIN:VCALENDAR
VERSION:2.0
PRODID:-//socialdancer.org//Dances//EN
CALSCALE:GREGORIAN
METHOD:PUBLISH
X-WR-TIMEZONE:Europe/Stockholm
BEGIN:VEVENT
SUMMARY:Fox Stockholm STOCKHOLM DANCE FOX WEEKEND 2026
DTSTART:20260307T180000Z
DTEND:20260308T225900Z
DTSTAMP:20260421T115911Z
UID:https://socialdancer.org/en/event/1142/
CATEGORIES:
DESCRIPTION:STOCKHOLM DANCE FOX WEEKEND 2026 \n https://www.facebook.com/e
 vents/1762031347706611/\nFoxtävling - Stockholm Dance Fox Weekend 2026 \n
  https://www.facebook.com/events/1335640804725782/
URL:https://socialdancer.org/en/event/1142/
END:VEVENT
END:VCALENDAR
