BEGIN:VCALENDAR
VERSION:2.0
PRODID:-//socialdancer.org//Dances//EN
CALSCALE:GREGORIAN
METHOD:PUBLISH
X-WR-TIMEZONE:Europe/Stockholm
BEGIN:VEVENT
SUMMARY:Kizomba/Fox Sundsvall FoxKiz med Ronie Saleh 21-22 februari 2026
DTSTART:20260221T090000Z
DTEND:20260222T225900Z
DTSTAMP:20260419T192257Z
UID:https://socialdancer.org/en/event/1141/
CATEGORIES:
DESCRIPTION:FoxKiz med Ronie Saleh 21-22 februari 2026 \n https://www.face
 book.com/events/9868548659938345/
URL:https://socialdancer.org/en/event/1141/
END:VEVENT
END:VCALENDAR
