BEGIN:VCALENDAR
VERSION:2.0
PRODID:-//socialdancer.org//Dances//EN
CALSCALE:GREGORIAN
METHOD:PUBLISH
X-WR-TIMEZONE:Europe/Stockholm
BEGIN:VEVENT
SUMMARY:Bugg/Fox Göteborg HeldagsWorkshop World Wide Göteborg
DTSTART:20230107T180000Z
DTEND:20230107T210000Z
DTSTAMP:20260425T124720Z
UID:https://socialdancer.org/en/event/11/
CATEGORIES:
DESCRIPTION:HeldagsWorkshop World Wide Göteborg \n https://www.facebook.c
 om/events/663413455334510/
URL:https://socialdancer.org/en/event/11/
END:VEVENT
END:VCALENDAR
