BEGIN:VCALENDAR
VERSION:2.0
PRODID:-//socialdancer.org//Dances//EN
CALSCALE:GREGORIAN
METHOD:PUBLISH
X-WR-TIMEZONE:Europe/Stockholm
BEGIN:VEVENT
SUMMARY:West Coast Swing Sundsvall WEST COAST SWING på Norra Berget
DTSTART:20250724T160000Z
DTEND:20250724T190000Z
DTSTAMP:20260421T104434Z
UID:https://socialdancer.org/en/event/1031/
CATEGORIES:
DESCRIPTION:WEST COAST SWING på Norra Berget \n https://www.facebook.com/
 events/588062507678372/
URL:https://socialdancer.org/en/event/1031/
END:VEVENT
END:VCALENDAR
