BEGIN:VCALENDAR
VERSION:2.0
PRODID:-//socialdancer.org//Dances//EN
CALSCALE:GREGORIAN
METHOD:PUBLISH
X-WR-TIMEZONE:Europe/Stockholm
BEGIN:VEVENT
SUMMARY:Fox Sundsvall FOX4UMARAN 2026
DTSTART:20260501T170000Z
DTEND:20260503T000000Z
DTSTAMP:20260421T145243Z
UID:https://socialdancer.org/en/event/1024/
CATEGORIES:
DESCRIPTION:FOX4UMARAN 2026 \n https://www.facebook.com/events/16136483093
 01200/
URL:https://socialdancer.org/en/event/1024/
END:VEVENT
END:VCALENDAR
